BEGIN:VCALENDAR
VERSION:2.0
PRODID:-//wp-events-plugin.com//7.2.3.1//EN
TZID:Europe/Berlin
X-WR-TIMEZONE:Europe/Berlin
BEGIN:VEVENT
UID:191@agbc-munich.com
DTSTART;TZID=Europe/Berlin:20251127T190000
DTEND;TZID=Europe/Berlin:20251127T223000
DTSTAMP:20251112T071920Z
URL:https://agbc-munich.com/events/thanksgiving-dinner-agbc-members-only
SUMMARY:Thanksgiving Dinner
DESCRIPTION:[fusion_builder_container type="flex" hundred_percent="no" hund
 red_percent_height="no" min_height_medium="" min_height_small="" min_heigh
 t="" hundred_percent_height_scroll="no" align_content="stretch" flex_align
 _items="flex-start" flex_justify_content="flex-start" flex_wrap_medium="" 
 flex_wrap_small="" flex_wrap="wrap" flex_column_spacing="" hundred_percent
 _height_center_content="yes" equal_height_columns="no" container_tag="div"
  menu_anchor="" hide_on_mobile="small-visibility\,medium-visibility\,large
 -visibility" status="published" publish_date="" class="" id="" spacing_med
 ium="" margin_top_medium="" margin_bottom_medium="" spacing_small="" margi
 n_top_small="" margin_bottom_small="" margin_top="" margin_bottom="" paddi
 ng_dimensions_medium="" padding_top_medium="" padding_right_medium="" padd
 ing_bottom_medium="" padding_left_medium="" padding_dimensions_small="" pa
 dding_top_small="" padding_right_small="" padding_bottom_small="" padding_
 left_small="" padding_top="" padding_right="" padding_bottom="" padding_le
 ft="" link_hover_color="" link_color="" border_sizes="" border_sizes_top="
 " border_sizes_right="" border_sizes_bottom="" border_sizes_left="" border
 _color="" border_style="solid" border_radius_top_left="" border_radius_top
 _right="" border_radius_bottom_right="" border_radius_bottom_left="" box_s
 hadow="no" box_shadow_vertical="" box_shadow_horizontal="" box_shadow_blur
 ="0" box_shadow_spread="0" box_shadow_color="" box_shadow_style="" z_index
 ="" overflow="" background_color_medium="" background_color_small="" backg
 round_color="" gradient_start_color="" gradient_end_color="" gradient_star
 t_position="0" gradient_end_position="100" gradient_type="linear" radial_d
 irection="center center" linear_angle="180" background_image_medium="" bac
 kground_image_small="" background_image="" skip_lazy_load="" background_po
 sition_medium="" background_position_small="" background_position="center 
 center" background_repeat_medium="" background_repeat_small="" background_
 repeat="no-repeat" background_size_medium="" background_size_small="" back
 ground_size="" background_custom_size="" background_custom_size_medium="" 
 background_custom_size_small="" fade="no" background_parallax="none" enabl
 e_mobile="no" parallax_speed="0.3" background_blend_mode_medium="" backgro
 und_blend_mode_small="" background_blend_mode="none" background_slider_ima
 ges="" background_slider_position="" background_slider_skip_lazy_loading="
 no" background_slider_loop="yes" background_slider_pause_on_hover="no" bac
 kground_slider_slideshow_speed="5000" background_slider_animation="fade" b
 ackground_slider_direction="up" background_slider_animation_speed="800" ba
 ckground_slider_blend_mode="" video_mp4="" video_webm="" video_ogv="" vide
 o_url="" video_aspect_ratio="16:9" video_loop="yes" video_mute="yes" video
 _preview_image="" pattern_bg="none" pattern_custom_bg="" pattern_bg_color=
 "" pattern_bg_style="default" pattern_bg_opacity="100" pattern_bg_size="" 
 pattern_bg_blend_mode="normal" mask_bg="none" mask_custom_bg="" mask_bg_co
 lor="" mask_bg_accent_color="" mask_bg_style="default" mask_bg_opacity="10
 0" mask_bg_transform="left" mask_bg_blend_mode="normal" render_logics="" l
 ogics="" absolute="off" absolute_devices="small\,medium\,large" sticky="of
 f" sticky_devices="small-visibility\,medium-visibility\,large-visibility" 
 sticky_background_color="" sticky_height="" sticky_offset="" sticky_transi
 tion_offset="0" scroll_offset="0" animation_type="" animation_direction="l
 eft" animation_color="" animation_speed="0.3" animation_delay="0" animatio
 n_offset="" filter_hue="0" filter_saturation="100" filter_brightness="100"
  filter_contrast="100" filter_invert="0" filter_sepia="0" filter_opacity="
 100" filter_blur="0" filter_hue_hover="0" filter_saturation_hover="100" fi
 lter_brightness_hover="100" filter_contrast_hover="100" filter_invert_hove
 r="0" filter_sepia_hover="0" filter_opacity_hover="100" filter_blur_hover=
 "0"][fusion_builder_row][fusion_builder_column type="1_1" layout="1_1" ali
 gn_self="auto" content_layout="column" align_content="flex-start" valign_c
 ontent="flex-start" content_wrap="wrap" spacing="" center_content="no" col
 umn_tag="div" link="" target="_self" link_description="" min_height="" hid
 e_on_mobile="small-visibility\,medium-visibility\,large-visibility" sticky
 _display="normal\,sticky" class="" id="" type_medium="" type_small="" flex
 _grow_medium="" flex_grow_small="" flex_grow="" flex_shrink_medium="" flex
 _shrink_small="" flex_shrink="" order_medium="0" order_small="0" dimension
 _spacing_medium="" dimension_spacing_small="" dimension_spacing="" dimensi
 on_margin_medium="" dimension_margin_small="" margin_top="" margin_bottom=
 "" padding_medium="" padding_small="" padding_top="" padding_right="" padd
 ing_bottom="" padding_left="" hover_type="none" border_sizes="" border_col
 or_hover="" border_color="" border_style="solid" border_radius="" box_shad
 ow="no" dimension_box_shadow="" box_shadow_blur="0" box_shadow_spread="0" 
 box_shadow_color="" box_shadow_style="" z_index_hover="" z_index="" overfl
 ow="" background_type="single" background_color_medium="" background_color
 _small="" background_color_medium_hover="" background_color_small_hover=""
  background_color_hover="" background_color="" gradient_start_color="" gra
 dient_end_color="" gradient_start_position="0" gradient_end_position="100"
  gradient_type="linear" radial_direction="center center" linear_angle="180
 " background_image_medium="" background_image_small="" background_image=""
  background_image_id_medium="" background_image_id_small="" background_ima
 ge_id="" lazy_load="avada" skip_lazy_load="" background_position_medium=""
  background_position_small="" background_position="left top" background_re
 peat_medium="" background_repeat_small="" background_repeat="no-repeat" ba
 ckground_size_medium="" background_size_small="" background_size="" backgr
 ound_custom_size="" background_custom_size_medium="" background_custom_siz
 e_small="" background_blend_mode_medium="" background_blend_mode_small="" 
 background_blend_mode="none" background_slider_images="" background_slider
 _position="" background_slider_skip_lazy_loading="no" background_slider_lo
 op="yes" background_slider_pause_on_hover="no" background_slider_slideshow
 _speed="5000" background_slider_animation="fade" background_slider_directi
 on="up" background_slider_animation_speed="800" background_slider_blend_mo
 de="" render_logics="" sticky="off" sticky_devices="small-visibility\,medi
 um-visibility\,large-visibility" sticky_offset="" absolute="off" absolute_
 props="" filter_type="regular" filter_hover_element="self" filter_hue="0" 
 filter_saturation="100" filter_brightness="100" filter_contrast="100" filt
 er_invert="0" filter_sepia="0" filter_opacity="100" filter_blur="0" filter
 _hue_hover="0" filter_saturation_hover="100" filter_brightness_hover="100"
  filter_contrast_hover="100" filter_invert_hover="0" filter_sepia_hover="0
 " filter_opacity_hover="100" filter_blur_hover="0" transform_type="regular
 " transform_hover_element="self" transform_scale_x="1" transform_scale_y="
 1" transform_translate_x="0" transform_translate_y="0" transform_rotate="0
 " transform_skew_x="0" transform_skew_y="0" transform_scale_x_hover="1" tr
 ansform_scale_y_hover="1" transform_translate_x_hover="0" transform_transl
 ate_y_hover="0" transform_rotate_hover="0" transform_skew_x_hover="0" tran
 sform_skew_y_hover="0" transform_origin="" transition_duration="300" trans
 ition_easing="ease" transition_custom_easing="" motion_effects="" scroll_m
 otion_devices="small-visibility\,medium-visibility\,large-visibility" anim
 ation_type="" animation_direction="left" animation_color="" animation_spee
 d="0.3" animation_delay="0" animation_offset="" last="true" border_positio
 n="all" first="true"][fusion_text columns="" column_min_width="" column_sp
 acing="" rule_style="" rule_size="" rule_color="" hue="" saturation="" lig
 htness="" alpha="" user_select="" awb-switch-editor-focus="" content_align
 ment_medium="" content_alignment_small="" content_alignment="" hide_on_mob
 ile="small-visibility\,medium-visibility\,large-visibility" sticky_display
 ="normal\,sticky" class="" id="" width_medium="" width_small="" width="" m
 in_width_medium="" min_width_small="" min_width="" max_width_medium="" max
 _width_small="" max_width="" margin_top="" margin_right="" margin_bottom="
 " margin_left="" fusion_font_family_text_font="" fusion_font_variant_text_
 font="" font_size="" line_height="" letter_spacing="" text_transform="" te
 xt_color="" animation_type="" animation_direction="left" animation_color="
 " animation_speed="0.3" animation_delay="0" animation_offset="" logics=""]
 \n\n\n\n\n\n\n\n\nDate: 27th November\nTime: 19.00\nLocation: The Grapeful
  @ Marriott Hotel\, Berlinerstrasse 93\, 80805 München\nPrice: 65€\n\nW
 e are delighted to announce that the American German Business Club togeth
 er with the Munich Marriott Hotel will be celebrating Thanksgiving on Thur
 sday\, November 27th.\n\nJoin us for a festive evening featuring a 4-cours
 e Thanksgiving dinner with wine in the company of fellow members of the co
 mmunity.\n\nMenu:\n- Cured Salmon with pumpkin and lettuce\n- Corn Soup wi
 th croutons\n\n- Turkey with Cranberries\, Brussels Sprouts\, Carrots\, Po
 tato Gratin\nor\n- Sweet Potato and Pumpkin Stir Fry with Cranberries and 
 Toasted Pine Nuts\n\n\n\n- Apple Pie with Vanilla Ice Cream\n\n\nEach cour
 se has a selected wine accompaniment.\nWe look forward to celebrating this
  cherished tradition together.\n\nTickets are not refundable but are trans
 ferable.\n\n\n\n\n\n\n[/fusion_text][fusion_button link="https://american-
 german-business-club.sumupstore.com/product/november-27th-thanksgiving-din
 ner" enable_hover_text_icon="no" hover_text="" title="" target="_blank" li
 nk_attributes="" aria_role_button="0" alignment_medium="" alignment_small=
 "" alignment="" modal="" hide_on_mobile="small-visibility\,medium-visibili
 ty\,large-visibility" sticky_display="normal\,sticky" class="" id="" color
 ="orange" button_gradient_top_color_hover="" hue="" saturation="" lightnes
 s="" alpha="" button_gradient_top_color="" button_gradient_bottom_color_ho
 ver="" button_gradient_bottom_color="" gradient_start_position="" gradient
 _end_position="" gradient_type="" radial_direction="" linear_angle="" acce
 nt_hover_color="" accent_color="" type="" bevel_color="" bevel_color_hover
 ="" border_top="" border_right="" border_bottom="" border_left="" border_r
 adius_top_left="" border_radius_top_right="" border_radius_bottom_right=""
  border_radius_bottom_left="" border_hover_color="" border_color="" size="
 " padding_top="" padding_right="" padding_bottom="" padding_left="" fusion
 _font_family_button_font="" fusion_font_variant_button_font="" font_size="
 " line_height="" letter_spacing="" text_transform="" stretch="default" mar
 gin_top="" margin_right="" margin_bottom="" margin_left="" icon="" hover_i
 con="" icon_position="left" icon_divider="no" hover_transition="none" anim
 ation_type="" animation_direction="left" animation_color="" animation_spee
 d="0.3" animation_delay="0" animation_offset=""]Buy a ticket[/fusion_butto
 n][/fusion_builder_column][/fusion_builder_row][/fusion_builder_container]
ATTACH;FMTTYPE=image/jpeg:https://agbc-munich.com/wp-content/uploads/2025/
 10/thanksgiving.jpeg
CATEGORIES:Monthly Meeting
LOCATION:The Grapeful @ The Munich Marriott Hotel\, Berlinerstrasse 93\, M
 ünchen\, 80805\, Germany
X-APPLE-STRUCTURED-LOCATION;VALUE=URI;X-ADDRESS=Berlinerstrasse 93\, Münch
 en\, 80805\, Germany;X-APPLE-RADIUS=100;X-TITLE=The Grapeful @ The Munich 
 Marriott Hotel:geo:0,0
END:VEVENT
BEGIN:VTIMEZONE
TZID:Europe/Berlin
X-LIC-LOCATION:Europe/Berlin
BEGIN:STANDARD
DTSTART:20251026T020000
TZOFFSETFROM:+0200
TZOFFSETTO:+0100
TZNAME:CET
END:STANDARD
END:VTIMEZONE
END:VCALENDAR