BEGIN:VCALENDAR
VERSION:2.0
PRODID:-//wp-events-plugin.com//7.2.3.1//EN
TZID:Europe/Berlin
X-WR-TIMEZONE:Europe/Berlin
BEGIN:VEVENT
UID:119@agbc-munich.com
DTSTART;TZID=Europe/Berlin:20231129T183000
DTEND;TZID=Europe/Berlin:20231129T223000
DTSTAMP:20231102T164851Z
URL:https://agbc-munich.com/events/sustainable-it-addressing-the-impact-th
 e-exponential-rise-of-digitisation-is-having-on-our-planet
SUMMARY:Sustainable IT – Addressing the impact the exponential rise of di
 gitisation is having on our planet
DESCRIPTION:AGBC Munich November Monthly Meeting:\nSustainable IT - Address
 ing the Impact the Exponential Rise of Digitisation is Having on our Plane
 t\n\n\nSpeaker:    Rainer Karcher\, Global Head of Sustainability\, All
 ianz Technology\, Munich\n\n&nbsp\;\n\nWhen:        Wednesday\, 29 
 November (1830 – 2230)\n\nRegistration from 18.30\, Panel start at 19.00
 \, Buffet and Networking start around 20.30.\n\nWhere:       Marriot
 t Hotel\, Berliner Str. 93\, 80505 Munich\n\nFormat:      In-person m
 eeting.\n\nLanguage: English\n\nCosts:        €35 for members and
  guests\, €25 for students\, Ticket price includes event access plus buf
 fet and one drink\n\n\n\nPlease get your ticket in advance from our ticket
  shop:  https://american-german-business-club.sumupstore.com/\n\nTickets 
 are transferrable\, but not refundable.\n\nSustainability\, especially in 
 IT operations\, is one of the top topics of our dynamic times! Are you Int
 erested in transformation programs for sustainability that foster and boos
 t awareness while helping make your organization sustainable for generatio
 ns to come?\n\nAllianz senior executive Rainer Karcher will share with us 
 the initiatives he is driving. Rainer is Global Head of Sustainability at 
 Allianz Technology in Munich. He ensures that sustainability is embedded 
 in all company IT services and products\, supporting Allianz Technology in
  achieving its ambitious targets towards a sustainable future. Rainer will
  also provide insights on his work as a sustainability leader and Board Me
 mber of SustainableIT.org (https://www.sustainableit.org/). As a nonprofit
  organization\, SustainableIT.org is led by senior technology executives w
 ho advance sustainability around the world through technical leadership.\n
 \nHe has more than 25 years of experience in IT at various companies\, inc
 luding IBM\, TeleCash/ FirstData and Arvato Systems\, gaining expertise in
  various areas such as support\, infrastructure\, data centers and service
  operations. Before joining Allianz Technology\, Rainer was Global Directo
 r IT Sustainability at Siemens\, initiating and implementing the first com
 pany-wide IT Sustainability strategy and leading a team of dedicated IT Su
 stainability professionals.\n\nA climate activist at heart\, Rainer calls 
 himself a climate activist in a suit\, and the name says it all!\n\nThis m
 eeting will be a great opportunity for AGBC Munich and IB|CM attendees to 
 learn much more about the evolving advances on sustainability in many area
 s of IT.  In addition\, we will meet and explore ideas and opportunities 
 with members of a number of the other Munich-area international business c
 lubs.\n\n&nbsp\;
CATEGORIES:Monthly Meeting
LOCATION:Marriott Hotel\, Berliner Str. 93\, München\, Bayern\, 80805\, Ba
 varia\, Germany
GEO:48.174509;11.591194
X-APPLE-STRUCTURED-LOCATION;VALUE=URI;X-ADDRESS=Berliner Str. 93\, München
 \, Bayern\, 80805\, Bavaria\, Germany;X-APPLE-RADIUS=100;X-TITLE=Marriott 
 Hotel:geo:48.174509,11.591194
END:VEVENT
BEGIN:VTIMEZONE
TZID:Europe/Berlin
X-LIC-LOCATION:Europe/Berlin
BEGIN:STANDARD
DTSTART:20231029T020000
TZOFFSETFROM:+0200
TZOFFSETTO:+0100
TZNAME:CET
END:STANDARD
END:VTIMEZONE
END:VCALENDAR