BEGIN:VCALENDAR
VERSION:2.0
PRODID:-//wp-events-plugin.com//7.2.3.1//EN
TZID:Europe/Berlin
X-WR-TIMEZONE:Europe/Berlin
BEGIN:VEVENT
UID:160@agbc-munich.com
DTSTART;TZID=Europe/Berlin:20240918T183000
DTEND;TZID=Europe/Berlin:20240918T220000
DTSTAMP:20240816T091056Z
URL:https://agbc-munich.com/events/panel-discussion-on-the-impact-the-us-e
 lections-will-have-on-the-financial-markets
SUMMARY:Panel Discussion on the impact the US elections will have on the fi
 nancial markets
DESCRIPTION:[fusion_builder_container admin_label="EVENTS Beschreibung Even
 t" type="flex" hundred_percent="no" hundred_percent_height="no" min_height
 _medium="" min_height_small="" min_height="" hundred_percent_height_scroll
 ="no" align_content="stretch" flex_align_items="flex-start" flex_justify_c
 ontent="flex-start" flex_wrap_medium="" flex_wrap_small="" flex_wrap="wrap
 " flex_column_spacing="" hundred_percent_height_center_content="yes" equal
 _height_columns="no" container_tag="div" menu_anchor="" hide_on_mobile="sm
 all-visibility\,medium-visibility\,large-visibility" status="published" pu
 blish_date="" class="" id="" margin_top_medium="" margin_bottom_medium="" 
 margin_top_small="" margin_bottom_small="" margin_top="50px" margin_bottom
 ="" padding_top_medium="" padding_right_medium="" padding_bottom_medium=""
  padding_left_medium="" padding_top_small="" padding_right_small="" paddin
 g_bottom_small="" padding_left_small="" padding_top="" padding_right="" pa
 dding_bottom="" padding_left="" link_hover_color="" hue="" saturation="" l
 ightness="" alpha="" link_color="" border_sizes_top="" border_sizes_right=
 "" border_sizes_bottom="" border_sizes_left="" border_color="" border_styl
 e="solid" border_radius_top_left="" border_radius_top_right="" border_radi
 us_bottom_right="" border_radius_bottom_left="" box_shadow="no" box_shadow
 _vertical="" box_shadow_horizontal="" box_shadow_blur="0" box_shadow_sprea
 d="0" box_shadow_color="" box_shadow_style="" z_index="" overflow="" backg
 round_color_medium="" background_color_small="" background_color="" gradie
 nt_start_color="" gradient_end_color="" gradient_start_position="0" gradie
 nt_end_position="100" gradient_type="linear" radial_direction="center cent
 er" linear_angle="180" background_image_medium="" background_image_small="
 " background_image="" skip_lazy_load="" background_position_medium="" back
 ground_position_small="" background_position="center center" background_re
 peat_medium="" background_repeat_small="" background_repeat="no-repeat" ba
 ckground_size_medium="" background_size_small="" background_size="" backgr
 ound_custom_size="" background_custom_size_medium="" background_custom_siz
 e_small="" fade="no" background_parallax="none" enable_mobile="no" paralla
 x_speed="0.3" background_blend_mode_medium="" background_blend_mode_small=
 "" background_blend_mode="none" background_slider_images="" background_sli
 der_position="" background_slider_skip_lazy_loading="no" background_slider
 _loop="yes" background_slider_pause_on_hover="no" background_slider_slides
 how_speed="5000" background_slider_animation="fade" background_slider_dire
 ction="up" background_slider_animation_speed="800" background_slider_blend
 _mode="" video_mp4="" video_webm="" video_ogv="" video_url="" video_aspect
 _ratio="16:9" video_loop="yes" video_mute="yes" video_preview_image="" pat
 tern_bg="none" pattern_custom_bg="" pattern_bg_color="" pattern_bg_style="
 default" pattern_bg_opacity="100" pattern_bg_size="" pattern_bg_blend_mode
 ="normal" mask_bg="none" mask_custom_bg="" mask_bg_color="" mask_bg_accent
 _color="" mask_bg_style="default" mask_bg_opacity="100" mask_bg_transform=
 "left" mask_bg_blend_mode="normal" render_logics="" logics="" absolute="of
 f" absolute_devices="small\,medium\,large" sticky="off" sticky_devices="sm
 all-visibility\,medium-visibility\,large-visibility" sticky_background_col
 or="" sticky_height="" sticky_offset="" sticky_transition_offset="0" scrol
 l_offset="0" animation_type="" animation_direction="left" animation_color=
 "" animation_speed="0.3" animation_delay="0" animation_offset="" filter_hu
 e="0" filter_saturation="100" filter_brightness="100" filter_contrast="100
 " filter_invert="0" filter_sepia="0" filter_opacity="100" filter_blur="0" 
 filter_hue_hover="0" filter_saturation_hover="100" filter_brightness_hover
 ="100" filter_contrast_hover="100" filter_invert_hover="0" filter_sepia_ho
 ver="0" filter_opacity_hover="100" filter_blur_hover="0"][fusion_builder_r
 ow][fusion_builder_column type="1_1" layout="1_1" align_self="auto" conten
 t_layout="column" align_content="flex-start" valign_content="flex-start" c
 ontent_wrap="wrap" spacing="" center_content="no" column_tag="div" link=""
  target="_self" link_description="" min_height="" hide_on_mobile="small-vi
 sibility\,medium-visibility\,large-visibility" sticky_display="normal\,sti
 cky" class="" id="" type_medium="" type_small="" flex_grow_medium="" flex_
 grow_small="" flex_grow="" flex_shrink_medium="" flex_shrink_small="" flex
 _shrink="" order_medium="0" order_small="0" dimension_spacing_medium="" di
 mension_spacing_small="" dimension_spacing="" dimension_margin_medium="" d
 imension_margin_small="" margin_top="" margin_bottom="" padding_medium="" 
 padding_small="" padding_top="" padding_right="" padding_bottom="" padding
 _left="" hover_type="none" border_sizes="" border_color_hover="" border_co
 lor="" border_style="solid" border_radius="" box_shadow="no" dimension_box
 _shadow="" box_shadow_blur="0" box_shadow_spread="0" box_shadow_color="" b
 ox_shadow_style="" z_index_hover="" z_index="" overflow="" background_type
 ="single" background_color_medium="" background_color_small="" background_
 color_medium_hover="" background_color_small_hover="" background_color_hov
 er="" background_color="" gradient_start_color="" gradient_end_color="" gr
 adient_start_position="0" gradient_end_position="100" gradient_type="linea
 r" radial_direction="center center" linear_angle="180" background_image_me
 dium="" background_image_small="" background_image="" background_image_id_
 medium="" background_image_id_small="" background_image_id="" lazy_load="a
 vada" skip_lazy_load="" background_position_medium="" background_position_
 small="" background_position="left top" background_repeat_medium="" backgr
 ound_repeat_small="" background_repeat="no-repeat" background_size_medium=
 "" background_size_small="" background_size="" background_custom_size="" b
 ackground_custom_size_medium="" background_custom_size_small="" background
 _blend_mode_medium="" background_blend_mode_small="" background_blend_mode
 ="none" background_slider_images="" background_slider_position="" backgrou
 nd_slider_skip_lazy_loading="no" background_slider_loop="yes" background_s
 lider_pause_on_hover="no" background_slider_slideshow_speed="5000" backgro
 und_slider_animation="fade" background_slider_direction="up" background_sl
 ider_animation_speed="800" background_slider_blend_mode="" render_logics="
 " sticky="off" sticky_devices="small-visibility\,medium-visibility\,large-
 visibility" sticky_offset="" absolute="off" absolute_props="" filter_type=
 "regular" filter_hover_element="self" filter_hue="0" filter_saturation="10
 0" filter_brightness="100" filter_contrast="100" filter_invert="0" filter_
 sepia="0" filter_opacity="100" filter_blur="0" filter_hue_hover="0" filter
 _saturation_hover="100" filter_brightness_hover="100" filter_contrast_hove
 r="100" filter_invert_hover="0" filter_sepia_hover="0" filter_opacity_hove
 r="100" filter_blur_hover="0" transform_type="regular" transform_hover_ele
 ment="self" transform_scale_x="1" transform_scale_y="1" transform_translat
 e_x="0" transform_translate_y="0" transform_rotate="0" transform_skew_x="0
 " transform_skew_y="0" transform_scale_x_hover="1" transform_scale_y_hover
 ="1" transform_translate_x_hover="0" transform_translate_y_hover="0" trans
 form_rotate_hover="0" transform_skew_x_hover="0" transform_skew_y_hover="0
 " transform_origin="" transition_duration="300" transition_easing="ease" t
 ransition_custom_easing="" motion_effects="" scroll_motion_devices="small-
 visibility\,medium-visibility\,large-visibility" animation_type="" animati
 on_direction="left" animation_color="" animation_speed="0.3" animation_del
 ay="0" animation_offset="" last="true" border_position="all" first="true"]
 [fusion_title title_type="text" marquee_direction="left" marquee_speed="15
 000" rotation_effect="bounceIn" display_time="1200" highlight_effect="circ
 le" loop_animation="off" highlight_width="9" highlight_top_margin="0" befo
 re_text="" rotation_text="" highlight_text="" after_text="" title_link="of
 f" link_url="" link_target="_self" hide_on_mobile="small-visibility\,mediu
 m-visibility\,large-visibility" sticky_display="normal\,sticky" class="" i
 d="" content_align_medium="" content_align_small="" content_align="left" s
 ize="p" animated_font_size="" fusion_font_family_title_font="var(--awb-typ
 ography4-font-family)" fusion_font_variant_title_font="var(--awb-typograph
 y4)" font_size="23px" line_height="28px" letter_spacing="var(--awb-typogra
 phy4-letter-spacing)" text_transform="var(--awb-typography4-text-transform
 )" text_color="" hue="" saturation="" lightness="" alpha="" animated_text_
 color="" text_shadow="no" text_shadow_vertical="" text_shadow_horizontal="
 " text_shadow_blur="0" text_shadow_color="" text_stroke="no" text_stroke_s
 ize="1" text_stroke_color="" text_overflow="none" margin_top_medium="" mar
 gin_right_medium="" margin_bottom_medium="" margin_left_medium="" margin_t
 op_small="" margin_right_small="" margin_bottom_small="" margin_left_small
 ="" margin_top="" margin_right="" margin_bottom="" margin_left="" margin_t
 op_mobile="" margin_bottom_mobile="" gradient_font="no" gradient_start_col
 or="" gradient_end_color="" gradient_start_position="0" gradient_end_posit
 ion="100" gradient_type="linear" radial_direction="center center" linear_a
 ngle="180" highlight_color="" style_type="default" sep_color="" link_color
 ="" link_hover_color="" animation_type="" animation_direction="left" anima
 tion_color="" animation_speed="0.3" animation_delay="0" animation_offset="
 "]\nPanel Discussion on the impact the US elections will have on the finan
 cial markets\n[/fusion_title][fusion_text columns="" column_min_width="" c
 olumn_spacing="" rule_style="" rule_size="" rule_color="" hue="" saturatio
 n="" lightness="" alpha="" user_select="" content_alignment_medium="" cont
 ent_alignment_small="" content_alignment="" hide_on_mobile="small-visibili
 ty\,medium-visibility\,large-visibility" sticky_display="normal\,sticky" c
 lass="" id="" margin_top="" margin_right="" margin_bottom="" margin_left="
 " fusion_font_family_text_font="" fusion_font_variant_text_font="" font_si
 ze="" line_height="" letter_spacing="" text_transform="" text_color="" ani
 mation_type="" animation_direction="left" animation_color="" animation_spe
 ed="0.3" animation_delay="0" animation_offset="" logics=""]\n\nWith the US
  Presidential elections just around the corner\, and the candidates and VP
 ’s all selected\, the race to the White House is underway. AGBC Munich w
 ill be hosting a panel discussion on the effects of the 2024 election on f
 inancial markets. We have an amazing expert panel lined up! There will be 
 an opportunity for audience questions to the panel.\n\nOur experts for the
  evening are:\n\n 	Colinne S. Bartel\, Geschäftsführerin\, AC Innovation
  GmbH\, AGBC Munich Member (Moderator)\n 	Tanja Bender\, Head of Branch Ge
 rmany &amp\; Austria CANDRIAM (Panelist)\n 	Frank Pöpplow\, Head of Distr
 ibution\, Germany &amp\; Austria\, Federated Hermes Fund Managers (Panelis
 t)\n 	 Thomas Gitzel\, Chief Economist VP Bank Group (Panelist)\n 	Diego F
 öllmi\, CEO\, Herens Quality Asset Management (Panelist)\n 	Andreas Dagas
 an\, Head of DACH\, Citywire GmbH (Panelist)\n\n\n\n\n\n\n\n\n\n\n\n\n\n\n
 \n\nTickets available in online shop:\nhttps://american-german-business-cl
 ub.sumupstore.com/product/us-presidential-election-and-financial-market-ef
 fects\n\n[/fusion_text][/fusion_builder_column][/fusion_builder_row][/fusi
 on_builder_container][fusion_builder_container type="flex" hundred_percent
 ="no" hundred_percent_height="no" min_height_medium="" min_height_small=""
  min_height="" hundred_percent_height_scroll="no" align_content="stretch" 
 flex_align_items="flex-start" flex_justify_content="flex-start" flex_wrap_
 medium="" flex_wrap_small="" flex_wrap="wrap" flex_column_spacing="" hundr
 ed_percent_height_center_content="yes" equal_height_columns="no" container
 _tag="div" menu_anchor="" hide_on_mobile="small-visibility\,medium-visibil
 ity\,large-visibility" status="published" publish_date="" class="" id="" m
 argin_top_medium="" margin_bottom_medium="" margin_top_small="" margin_bot
 tom_small="" margin_top="80px" margin_bottom="80px" padding_top_medium="" 
 padding_right_medium="" padding_bottom_medium="" padding_left_medium="" pa
 dding_top_small="" padding_right_small="" padding_bottom_small="" padding_
 left_small="" padding_top="" padding_right="" padding_bottom="" padding_le
 ft="" link_hover_color="" hue="" saturation="" lightness="" alpha="" link_
 color="" border_sizes_top="" border_sizes_right="" border_sizes_bottom="" 
 border_sizes_left="" border_color="" border_style="solid" border_radius_to
 p_left="" border_radius_top_right="" border_radius_bottom_right="" border_
 radius_bottom_left="" box_shadow="no" box_shadow_vertical="" box_shadow_ho
 rizontal="" box_shadow_blur="0" box_shadow_spread="0" box_shadow_color="" 
 box_shadow_style="" z_index="" overflow="" background_color_medium="" back
 ground_color_small="" background_color="" gradient_start_color="" gradient
 _end_color="" gradient_start_position="0" gradient_end_position="100" grad
 ient_type="linear" radial_direction="center center" linear_angle="180" bac
 kground_image_medium="" background_image_small="" background_image="" skip
 _lazy_load="" background_position_medium="" background_position_small="" b
 ackground_position="center center" background_repeat_medium="" background_
 repeat_small="" background_repeat="no-repeat" background_size_medium="" ba
 ckground_size_small="" background_size="" background_custom_size="" backgr
 ound_custom_size_medium="" background_custom_size_small="" fade="no" backg
 round_parallax="none" enable_mobile="no" parallax_speed="0.3" background_b
 lend_mode_medium="" background_blend_mode_small="" background_blend_mode="
 none" background_slider_images="" background_slider_position="" background
 _slider_skip_lazy_loading="no" background_slider_loop="yes" background_sli
 der_pause_on_hover="no" background_slider_slideshow_speed="5000" backgroun
 d_slider_animation="fade" background_slider_direction="up" background_slid
 er_animation_speed="800" background_slider_blend_mode="" video_mp4="" vide
 o_webm="" video_ogv="" video_url="" video_aspect_ratio="16:9" video_loop="
 yes" video_mute="yes" video_preview_image="" pattern_bg="none" pattern_cus
 tom_bg="" pattern_bg_color="" pattern_bg_style="default" pattern_bg_opacit
 y="100" pattern_bg_size="" pattern_bg_blend_mode="normal" mask_bg="none" m
 ask_custom_bg="" mask_bg_color="" mask_bg_accent_color="" mask_bg_style="d
 efault" mask_bg_opacity="100" mask_bg_transform="left" mask_bg_blend_mode=
 "normal" render_logics="" logics="" absolute="off" absolute_devices="small
 \,medium\,large" sticky="off" sticky_devices="small-visibility\,medium-vis
 ibility\,large-visibility" sticky_background_color="" sticky_height="" sti
 cky_offset="" sticky_transition_offset="0" scroll_offset="0" animation_typ
 e="" animation_direction="left" animation_color="" animation_speed="0.3" a
 nimation_delay="0" animation_offset="" filter_hue="0" filter_saturation="1
 00" filter_brightness="100" filter_contrast="100" filter_invert="0" filter
 _sepia="0" filter_opacity="100" filter_blur="0" filter_hue_hover="0" filte
 r_saturation_hover="100" filter_brightness_hover="100" filter_contrast_hov
 er="100" filter_invert_hover="0" filter_sepia_hover="0" filter_opacity_hov
 er="100" filter_blur_hover="0" admin_label="EVENT Person Karussell"][fusio
 n_builder_row][fusion_builder_column type="1_1" layout="1_1" align_self="a
 uto" content_layout="column" align_content="flex-start" valign_content="fl
 ex-start" content_wrap="wrap" spacing="" center_content="no" column_tag="d
 iv" link="" target="_self" link_description="" min_height="" hide_on_mobil
 e="small-visibility\,medium-visibility\,large-visibility" sticky_display="
 normal\,sticky" class="" id="" type_medium="" type_small="" flex_grow_medi
 um="" flex_grow_small="" flex_grow="" flex_shrink_medium="" flex_shrink_sm
 all="" flex_shrink="" order_medium="0" order_small="0" dimension_spacing_m
 edium="" dimension_spacing_small="" dimension_spacing="" dimension_margin_
 medium="" dimension_margin_small="" margin_top="" margin_bottom="" padding
 _medium="" padding_small="" padding_top="" padding_right="" padding_bottom
 ="" padding_left="" hover_type="none" border_sizes="" border_color_hover="
 " border_color="" border_style="solid" border_radius="" box_shadow="no" di
 mension_box_shadow="" box_shadow_blur="0" box_shadow_spread="0" box_shadow
 _color="" box_shadow_style="" z_index_hover="" z_index="" overflow="" back
 ground_type="single" background_color_medium="" background_color_small="" 
 background_color_medium_hover="" background_color_small_hover="" backgroun
 d_color_hover="" background_color="" gradient_start_color="" gradient_end_
 color="" gradient_start_position="0" gradient_end_position="100" gradient_
 type="linear" radial_direction="center center" linear_angle="180" backgrou
 nd_image_medium="" background_image_small="" background_image="" backgroun
 d_image_id_medium="" background_image_id_small="" background_image_id="" l
 azy_load="avada" skip_lazy_load="" background_position_medium="" backgroun
 d_position_small="" background_position="left top" background_repeat_mediu
 m="" background_repeat_small="" background_repeat="no-repeat" background_s
 ize_medium="" background_size_small="" background_size="" background_custo
 m_size="" background_custom_size_medium="" background_custom_size_small=""
  background_blend_mode_medium="" background_blend_mode_small="" background
 _blend_mode="none" background_slider_images="" background_slider_position=
 "" background_slider_skip_lazy_loading="no" background_slider_loop="yes" b
 ackground_slider_pause_on_hover="no" background_slider_slideshow_speed="50
 00" background_slider_animation="fade" background_slider_direction="up" ba
 ckground_slider_animation_speed="800" background_slider_blend_mode="" rend
 er_logics="" sticky="off" sticky_devices="small-visibility\,medium-visibil
 ity\,large-visibility" sticky_offset="" absolute="off" absolute_props="" f
 ilter_type="regular" filter_hover_element="self" filter_hue="0" filter_sat
 uration="100" filter_brightness="100" filter_contrast="100" filter_invert=
 "0" filter_sepia="0" filter_opacity="100" filter_blur="0" filter_hue_hover
 ="0" filter_saturation_hover="100" filter_brightness_hover="100" filter_co
 ntrast_hover="100" filter_invert_hover="0" filter_sepia_hover="0" filter_o
 pacity_hover="100" filter_blur_hover="0" transform_type="regular" transfor
 m_hover_element="self" transform_scale_x="1" transform_scale_y="1" transfo
 rm_translate_x="0" transform_translate_y="0" transform_rotate="0" transfor
 m_skew_x="0" transform_skew_y="0" transform_scale_x_hover="1" transform_sc
 ale_y_hover="1" transform_translate_x_hover="0" transform_translate_y_hove
 r="0" transform_rotate_hover="0" transform_skew_x_hover="0" transform_skew
 _y_hover="0" transform_origin="" transition_duration="300" transition_easi
 ng="ease" transition_custom_easing="" motion_effects="" scroll_motion_devi
 ces="small-visibility\,medium-visibility\,large-visibility" animation_type
 ="" animation_direction="left" animation_color="" animation_speed="0.3" an
 imation_delay="0" animation_offset="" last="true" border_position="all" fi
 rst="true"][fusion_images order_by="desc" picture_size="fixed" hover_type=
 "none" autoplay="yes" flex_align_items="flex-start" columns="3" column_spa
 cing="30" scroll_items="" show_nav="yes" mouse_scroll="yes" border="yes" l
 ightbox="no" margin_top="25px" margin_right="25px" margin_bottom="25px" ma
 rgin_left="25px" hide_on_mobile="small-visibility\,medium-visibility\,larg
 e-visibility" class="" id="" caption_style="below" caption_title_tag="5" f
 usion_font_family_caption_title_font="var(--awb-typography1-font-family)" 
 fusion_font_variant_caption_title_font="var(--awb-typography1)" caption_ti
 tle_size="25px" caption_title_line_height="var(--awb-typography1-line-heig
 ht)" caption_title_letter_spacing="var(--awb-typography1-letter-spacing)" 
 caption_title_transform="var(--awb-typography1-text-transform)" caption_ti
 tle_color="var(--awb-color6)" hue="" saturation="" lightness="" alpha="" c
 aption_background_color="" fusion_font_family_caption_text_font="" fusion_
 font_variant_caption_text_font="" caption_text_size="" caption_text_line_h
 eight="" caption_text_letter_spacing="" caption_text_transform="" caption_
 text_color="" caption_border_color="" caption_overlay_color="" caption_ali
 gn_medium="none" caption_align_small="none" caption_align="none" caption_m
 argin_top="20px" caption_margin_right="" caption_margin_bottom="" caption_
 margin_left="" parent_dynamic_content=""][fusion_image image="https://agbc
 -munich.com/wp-content/uploads/2024/07/Colinne-Bartel.jpg" image_id="5607|
 full" image_title="Colinne Bartel (Moderator)" image_caption="Colinne is t
 he owner of Truffle Time\, a subsidiary of AC Innovation GmbH. AC Innovati
 on serves as a marketing and business development catalyst for entrepreneu
 rs. After finalizing her MBA\, Colinne joined McKinsey &amp\; Company. She
  holds a B.A. in Political Science from University of California\, Los Ang
 eles\, an M.A. in International Relations from the Claremont Graduate Scho
 ol and a dual MBA in Strategy and Finance from The Peter F. Drucker School
  of Management and the EDHEC Business School. TRUFFLE TIME (www.truffle-ti
 me.com) conceptualizes targeted Thought Leadership engagements. Our focus 
 is engagement between and amongst our guests. TRUFFLE EVENTS are designed 
 to be intellectual jousting matches about complex topics! Our goals are to
 : Spark Interest\, Educate and Inspire to Act!" link="" linktarget="_self"
  alt="" /][fusion_image image="https://agbc-munich.com/wp-content/uploads/
 2024/07/Tanja_Bender.jpg" image_id="5608|full" image_title="Tanja Bender (
 Panelist)" image_caption="Tanja has been the head of Candriam Germany &amp
 \; Austria since March 2020. Tanja joined CANDRIAM in 2018 as a Senior Cli
 ent Relationship Manager covering Whole-Sale and Institutional Investors. 
 Before joining CANDRIAM\, Tanja was Co-Country Head at Métropole Gestion.
  Tanja started her career with the German bank education at Commerzbank AG
 \, passing several additional educational steps in private banking\, finan
 ce\, asset management and her sales coaching diploma. Tanja holds the Bank
 ing Business Economist diploma of Bankenakademie Frankfurt. With 145B€ u
 nder management\, Candriam is a global multi-specialist asset manager and 
 a recognized pioneer and leader in sustainable investment. For more than 2
 5 years\, Candriam has offered innovative and diversified investment solut
 ions across many asset classes including fixed income\, equities\, absolut
 e return \, asset allocation and illiquid assets." link="" linktarget="_se
 lf" alt="" /][fusion_image image="https://agbc-munich.com/wp-content/uploa
 ds/2024/07/Frank-Poepplow.jpg" image_id="5609|full" image_title="Frank Pö
 pplow (Panelist)" image_caption="Frank joined Federated Hermes in January 
 2020\, having been a managing director for the European entity of Federate
 d Asset Manangement GmbH since 2006. Prior to this\, he was a general mana
 ger at attrax S.A in Luxemburg. He spent 14 years at DZ Bank in several ro
 les\, most recently as Head of Business Development for retail investment 
 products for the German union banking sector (Volksbanken and Raiffeisenba
 nken). Frank has a degree in Economics from the Friedrich-Wilhelms-Univers
 ity of Bonn. Federated Hermes is a leading global provider of active\, res
 ponsible investments with USD 779 billion in assets under management and U
 SD 1.8 trillion in assets under advisory. Federated Hermes Guided offer ex
 pertise in equities\, fixed income\, private markets\, multi-asset and liq
 uidity management strategies\, as well as world-leading engagement service
 s." link="" linktarget="_self" alt="" /][fusion_image image="https://agbc-
 munich.com/wp-content/uploads/2024/07/Thomas_Gitzel.jpg" image_id="5610|fu
 ll" image_title="Dr. Thomas Gitzel (Panelist)" image_caption="Tom Gitzel i
 s chief economist of VP Bank Group. He holds a Dr. oec. the University of 
 Stuttgart-Hohenheim. He completed his economics studies at the University 
 of Tübingen and the University of Massachusetts\, Boston. Dr. Tom Gitzel 
 works as a lecturer at various universities in Germany and at the Universi
 ty of Liechtenstein. According to the FAZ economist ranking\, Tom Gitzel i
 s the most cited banking economist in German-speaking countries. VP Bank G
 roup is an internationally oriented banking group and one of Liechtenstein
 ’s largest banks. The bank was founded 1956. It has offices in Vaduz\, Z
 urich\, Luxembourg\, Singapore\, Hong Kong and Tortola (British Virgin Isl
 ands)." link="" linktarget="_self" alt="" /][fusion_image image="https://a
 gbc-munich.com/wp-content/uploads/2024/08/Diego-Follmi.jpg" image_id="5620
 |full" image_title="Diego Föllmi (Panelist)" image_caption="Diego is the 
 Managing Partner &amp\; CEO at Hérens Quality Asset Management AG (HQAM).
  He holds a master’s degree in Banking &amp\; Finance from the Universit
 y of Zürich and his career began at Credit Suisse in 1999\, before he joi
 ned HQAM in 2007. Since then\, Diego Föllmi has led the Sales &amp\; Acqu
 isitions Team\, has been a member of the Management Board and has been lea
 ding the company as the CEO &amp\; Partner since 2016. Hérens Quality Ass
 et Management is an independent specialized asset manager\, with sole focu
 s on investing in attractively valued Quality companies since 2003. The co
 rnerstone of its investment philosophy is to achieve outstanding and susta
 inable long-term returns with no compromises on business quality. It is ac
 hieved with an own systematic quality investment process\, a leading resea
 rch team and execution excellence." link="" linktarget="_self" alt="" /][f
 usion_image image="https://agbc-munich.com/wp-content/uploads/2024/08/Andr
 eas-Dagasan-scaled.jpg" image_id="5621|full" image_title="Andreas Dagasan 
 (Panelist)" image_caption="Andreas is Managing Director and Head of German
 y\, Austria and Switzerland at Citywire GmbH. As a capital market expert\,
  he has been active in the international financial markets for more than 2
 0 years. He has been in charge of portfolio management and investment stra
 tegy at well-known financial institutions. Andreas Dagasan has successfull
 y managed special and mutual funds and has received numerous honours and a
 wards for his work. He is an expert in portfolio management\, asset alloca
 tion and asset matters\, as well as long-term economic analyses\, risk man
 agement and tactical investment decisions. Derivatives\, hedge funds\, sho
 rt selling\, volatility trading and hedging. At Citywire\, he moderates pa
 nels\, roundtables and heads the editorial and events in the DACH region."
  link="" linktarget="_self" alt="" /][/fusion_images][/fusion_builder_colu
 mn][/fusion_builder_row][/fusion_builder_container]
ATTACH;FMTTYPE=image/jpeg:https://agbc-munich.com/wp-content/uploads/2024/
 07/Title-scaled.jpeg
CATEGORIES:Monthly Meeting
LOCATION:Marriott Hotel\, Berliner Str. 93\, München\, Bayern\, 80805\, Ba
 varia\, Germany
GEO:48.174509;11.591194
X-APPLE-STRUCTURED-LOCATION;VALUE=URI;X-ADDRESS=Berliner Str. 93\, München
 \, Bayern\, 80805\, Bavaria\, Germany;X-APPLE-RADIUS=100;X-TITLE=Marriott 
 Hotel:geo:48.174509,11.591194
END:VEVENT
BEGIN:VTIMEZONE
TZID:Europe/Berlin
X-LIC-LOCATION:Europe/Berlin
BEGIN:DAYLIGHT
DTSTART:20240331T030000
TZOFFSETFROM:+0100
TZOFFSETTO:+0200
TZNAME:CEST
END:DAYLIGHT
END:VTIMEZONE
END:VCALENDAR