BEGIN:VCALENDAR
VERSION:2.0
PRODID:-//wp-events-plugin.com//7.2.3.1//EN
TZID:Europe/Berlin
X-WR-TIMEZONE:Europe/Berlin
BEGIN:VEVENT
UID:203@agbc-munich.com
DTSTART;TZID=Europe/Berlin:20260511T190000
DTEND;TZID=Europe/Berlin:20260511T220000
DTSTAMP:20260329T142131Z
URL:https://agbc-munich.com/events/may-stammtisch
SUMMARY:May Stammtisch
DESCRIPTION:Our May Stammtisch will be at the Champions Bar at the Marriot
 t Hotel\, Berliner Str. 93\, 80805 Munich on Monday 9th March. We have an 
 area reserved for us and this is a great opportunity to meet new people\, 
 and to chat with those you know. Our Stammtische have become very popular 
 so we highly recommend arriving as close to 19.00 as you can. No registrat
 ion is necessary.
ATTACH;FMTTYPE=image/jpeg:https://agbc-munich.com/wp-content/uploads/2026/
 01/bar-new.jpg
CATEGORIES:Monthly Stammtisch
LOCATION:Champions Bar @ Marriott Hotel\, Berliner Str. 93\, Munich\, 80805
 \, Germany
X-APPLE-STRUCTURED-LOCATION;VALUE=URI;X-ADDRESS=Berliner Str. 93\, Munich\,
  80805\, Germany;X-APPLE-RADIUS=100;X-TITLE=Champions Bar @ Marriott Hotel
 :geo:0,0
END:VEVENT
BEGIN:VTIMEZONE
TZID:Europe/Berlin
X-LIC-LOCATION:Europe/Berlin
BEGIN:DAYLIGHT
DTSTART:20260329T030000
TZOFFSETFROM:+0100
TZOFFSETTO:+0200
TZNAME:CEST
END:DAYLIGHT
END:VTIMEZONE
END:VCALENDAR