BEGIN:VCALENDAR
VERSION:2.0
PRODID:-//wp-events-plugin.com//7.2.3.1//EN
TZID:Europe/Berlin
X-WR-TIMEZONE:Europe/Berlin
BEGIN:VEVENT
UID:92@agbc-munich.com
DTSTART;TZID=Europe/Berlin:20221103T180000
DTEND;TZID=Europe/Berlin:20221103T210000
DTSTAMP:20221028T075546Z
URL:https://agbc-munich.com/events/agbc-munich-november-stammtisch-save-th
 e-date
SUMMARY:AGBC Munich November Stammtisch at the Augustiner
DESCRIPTION:Come and join us for our in-person Stammtisch at the Augustiner
 -Keller\, Arnulfstrasse 52\, 80335 München.\n\nTake part in open discussi
 ons and meet up with AGBC members and friends. Stop in and say “Prost!
 ”\n\nThursday\, Oct. 6\, 2022\, 6:00-9:00 p.m.
CATEGORIES:Club Event
LOCATION:Augustiner-Keller\, Arnulfstr. 52\, Munich\, 80335\, Germany
GEO:48.143447;11.551535
X-APPLE-STRUCTURED-LOCATION;VALUE=URI;X-ADDRESS=Arnulfstr. 52\, Munich\, 80
 335\, Germany;X-APPLE-RADIUS=100;X-TITLE=Augustiner-Keller:geo:48.143447,1
 1.551535
END:VEVENT
BEGIN:VTIMEZONE
TZID:Europe/Berlin
X-LIC-LOCATION:Europe/Berlin
BEGIN:STANDARD
DTSTART:20221030T020000
TZOFFSETFROM:+0200
TZOFFSETTO:+0100
TZNAME:CET
END:STANDARD
END:VTIMEZONE
END:VCALENDAR