BEGIN:VCALENDAR
VERSION:2.0
PRODID:-//wp-events-plugin.com//7.2.3.1//EN
TZID:Europe/Berlin
X-WR-TIMEZONE:Europe/Berlin
BEGIN:VEVENT
UID:175@agbc-munich.com
DTSTART;TZID=Europe/Berlin:20250303T190000
DTEND;TZID=Europe/Berlin:20250303T210000
DTSTAMP:20241231T140803Z
URL:https://agbc-munich.com/events/agbc-munich-march-stammtisch-2
SUMMARY:AGBC Munich March Stammtisch
DESCRIPTION:Come and join us for our March Stammtisch at the Augustiner Klo
 sterwirt\, Augustinerstrasse 1\, 80331 München.Take part in open discussi
 ons and meet up with AGBC members and friends to have a good time.\n\nYou 
 don’t need to register\, but please try to be there in time. The place i
 s very busy and reserved tables need to be taken early.\n\nMonday\, March 
 3rd\, 2025\, 1900-2200.\n\n
ATTACH;FMTTYPE=image/jpeg:https://agbc-munich.com/wp-content/uploads/2024/
 02/March-Stammtisch.jpg
CATEGORIES:Monthly Stammtisch
END:VEVENT
BEGIN:VTIMEZONE
TZID:Europe/Berlin
X-LIC-LOCATION:Europe/Berlin
BEGIN:STANDARD
DTSTART:20241027T020000
TZOFFSETFROM:+0200
TZOFFSETTO:+0100
TZNAME:CET
END:STANDARD
END:VTIMEZONE
END:VCALENDAR