BEGIN:VCALENDAR
VERSION:2.0
PRODID:-//wp-events-plugin.com//7.2.3.1//EN
TZID:Europe/Berlin
X-WR-TIMEZONE:Europe/Berlin
BEGIN:VEVENT
UID:146@agbc-munich.com
DTSTART;TZID=Europe/Berlin:20240801T190000
DTEND;TZID=Europe/Berlin:20240801T210000
DTSTAMP:20240515T123231Z
URL:https://agbc-munich.com/events/agbc-munich-august-stammtisch-2
SUMMARY:AGBC Munich August Stammtisch
DESCRIPTION:Come and join us for our August Stammtisch.\n\nNote: The locati
 on for the summer months is Augustiner Biergarten\, Arnulfstr.52 in Munich
 .\n\nWe will be on the Terrace and if the weather is bad\, we automaticall
 y get a table indoors.\n\nTake part in open discussions and meet up with A
 GBC members and friends.\n\nYou don’t need to register\, but please try 
 to be there in time. The place is busy and reserved tables need to be take
 n early.\n\nThursday\, August 1st\, 2024\, 1900-2100.
ATTACH;FMTTYPE=image/jpeg:https://agbc-munich.com/wp-content/uploads/2024/
 05/August-Stammtisch-1.jpg
CATEGORIES:Monthly Stammtisch
LOCATION:Augustiner-Keller\, Arnulfstr. 52\, Munich\, 80335\, Germany
GEO:48.143447;11.551535
X-APPLE-STRUCTURED-LOCATION;VALUE=URI;X-ADDRESS=Arnulfstr. 52\, Munich\, 80
 335\, Germany;X-APPLE-RADIUS=100;X-TITLE=Augustiner-Keller:geo:48.143447,1
 1.551535
END:VEVENT
BEGIN:VTIMEZONE
TZID:Europe/Berlin
X-LIC-LOCATION:Europe/Berlin
BEGIN:DAYLIGHT
DTSTART:20240331T030000
TZOFFSETFROM:+0100
TZOFFSETTO:+0200
TZNAME:CEST
END:DAYLIGHT
END:VTIMEZONE
END:VCALENDAR