BEGIN:VCALENDAR
VERSION:2.0
PRODID:-//wp-events-plugin.com//7.2.3.1//EN
TZID:Europe/Berlin
X-WR-TIMEZONE:Europe/Berlin
BEGIN:VEVENT
UID:165@agbc-munich.com
DTSTART;TZID=Europe/Berlin:20250628T100000
DTEND;TZID=Europe/Berlin:20250628T220000
DTSTAMP:20250615T151743Z
URL:https://agbc-munich.com/events/agbc-charity-golf-tournament
SUMMARY:AGBC Charity Golf Tournament
DESCRIPTION:[fusion_builder_container admin_label="EVENTS Beschreibung Even
 t" type="flex" hundred_percent="no" hundred_percent_height="no" min_height
 _medium="" min_height_small="" min_height="" hundred_percent_height_scroll
 ="no" align_content="stretch" flex_align_items="flex-start" flex_justify_c
 ontent="flex-start" flex_wrap_medium="" flex_wrap_small="" flex_wrap="wrap
 " flex_column_spacing="" hundred_percent_height_center_content="yes" equal
 _height_columns="no" container_tag="div" menu_anchor="" hide_on_mobile="sm
 all-visibility\,medium-visibility\,large-visibility" status="published" pu
 blish_date="" class="" id="" margin_top_medium="" margin_bottom_medium="" 
 margin_top_small="" margin_bottom_small="" margin_top="50px" margin_bottom
 ="" padding_top_medium="" padding_right_medium="" padding_bottom_medium=""
  padding_left_medium="" padding_top_small="" padding_right_small="" paddin
 g_bottom_small="" padding_left_small="" padding_top="" padding_right="" pa
 dding_bottom="" padding_left="" link_hover_color="" hue="" saturation="" l
 ightness="" alpha="" link_color="" border_sizes_top="" border_sizes_right=
 "" border_sizes_bottom="" border_sizes_left="" border_color="" border_styl
 e="solid" border_radius_top_left="" border_radius_top_right="" border_radi
 us_bottom_right="" border_radius_bottom_left="" box_shadow="no" box_shadow
 _vertical="" box_shadow_horizontal="" box_shadow_blur="0" box_shadow_sprea
 d="0" box_shadow_color="" box_shadow_style="" z_index="" overflow="" backg
 round_color_medium="" background_color_small="" background_color="" gradie
 nt_start_color="" gradient_end_color="" gradient_start_position="0" gradie
 nt_end_position="100" gradient_type="linear" radial_direction="center cent
 er" linear_angle="180" background_image_medium="" background_image_small="
 " background_image="" skip_lazy_load="" background_position_medium="" back
 ground_position_small="" background_position="center center" background_re
 peat_medium="" background_repeat_small="" background_repeat="no-repeat" ba
 ckground_size_medium="" background_size_small="" background_size="" backgr
 ound_custom_size="" background_custom_size_medium="" background_custom_siz
 e_small="" fade="no" background_parallax="none" enable_mobile="no" paralla
 x_speed="0.3" background_blend_mode_medium="" background_blend_mode_small=
 "" background_blend_mode="none" background_slider_images="" background_sli
 der_position="" background_slider_skip_lazy_loading="no" background_slider
 _loop="yes" background_slider_pause_on_hover="no" background_slider_slides
 how_speed="5000" background_slider_animation="fade" background_slider_dire
 ction="up" background_slider_animation_speed="800" background_slider_blend
 _mode="" video_mp4="" video_webm="" video_ogv="" video_url="" video_aspect
 _ratio="16:9" video_loop="yes" video_mute="yes" video_preview_image="" pat
 tern_bg="none" pattern_custom_bg="" pattern_bg_color="" pattern_bg_style="
 default" pattern_bg_opacity="100" pattern_bg_size="" pattern_bg_blend_mode
 ="normal" mask_bg="none" mask_custom_bg="" mask_bg_color="" mask_bg_accent
 _color="" mask_bg_style="default" mask_bg_opacity="100" mask_bg_transform=
 "left" mask_bg_blend_mode="normal" render_logics="" logics="" absolute="of
 f" absolute_devices="small\,medium\,large" sticky="off" sticky_devices="sm
 all-visibility\,medium-visibility\,large-visibility" sticky_background_col
 or="" sticky_height="" sticky_offset="" sticky_transition_offset="0" scrol
 l_offset="0" animation_type="" animation_direction="left" animation_color=
 "" animation_speed="0.3" animation_delay="0" animation_offset="" filter_hu
 e="0" filter_saturation="100" filter_brightness="100" filter_contrast="100
 " filter_invert="0" filter_sepia="0" filter_opacity="100" filter_blur="0" 
 filter_hue_hover="0" filter_saturation_hover="100" filter_brightness_hover
 ="100" filter_contrast_hover="100" filter_invert_hover="0" filter_sepia_ho
 ver="0" filter_opacity_hover="100" filter_blur_hover="0"][fusion_builder_r
 ow][fusion_builder_column type="1_1" layout="1_1" align_self="auto" conten
 t_layout="column" align_content="flex-start" valign_content="flex-start" c
 ontent_wrap="wrap" spacing="" center_content="no" column_tag="div" link=""
  target="_self" link_description="" min_height="" hide_on_mobile="small-vi
 sibility\,medium-visibility\,large-visibility" sticky_display="normal\,sti
 cky" class="" id="" type_medium="" type_small="" flex_grow_medium="" flex_
 grow_small="" flex_grow="" flex_shrink_medium="" flex_shrink_small="" flex
 _shrink="" order_medium="0" order_small="0" dimension_spacing_medium="" di
 mension_spacing_small="" dimension_spacing="" dimension_margin_medium="" d
 imension_margin_small="" margin_top="" margin_bottom="" padding_medium="" 
 padding_small="" padding_top="" padding_right="" padding_bottom="" padding
 _left="" hover_type="none" border_sizes="" border_color_hover="" border_co
 lor="" border_style="solid" border_radius="" box_shadow="no" dimension_box
 _shadow="" box_shadow_blur="0" box_shadow_spread="0" box_shadow_color="" b
 ox_shadow_style="" z_index_hover="" z_index="" overflow="" background_type
 ="single" background_color_medium="" background_color_small="" background_
 color_medium_hover="" background_color_small_hover="" background_color_hov
 er="" background_color="" gradient_start_color="" gradient_end_color="" gr
 adient_start_position="0" gradient_end_position="100" gradient_type="linea
 r" radial_direction="center center" linear_angle="180" background_image_me
 dium="" background_image_small="" background_image="" background_image_id_
 medium="" background_image_id_small="" background_image_id="" lazy_load="a
 vada" skip_lazy_load="" background_position_medium="" background_position_
 small="" background_position="left top" background_repeat_medium="" backgr
 ound_repeat_small="" background_repeat="no-repeat" background_size_medium=
 "" background_size_small="" background_size="" background_custom_size="" b
 ackground_custom_size_medium="" background_custom_size_small="" background
 _blend_mode_medium="" background_blend_mode_small="" background_blend_mode
 ="none" background_slider_images="" background_slider_position="" backgrou
 nd_slider_skip_lazy_loading="no" background_slider_loop="yes" background_s
 lider_pause_on_hover="no" background_slider_slideshow_speed="5000" backgro
 und_slider_animation="fade" background_slider_direction="up" background_sl
 ider_animation_speed="800" background_slider_blend_mode="" render_logics="
 " sticky="off" sticky_devices="small-visibility\,medium-visibility\,large-
 visibility" sticky_offset="" absolute="off" absolute_props="" filter_type=
 "regular" filter_hover_element="self" filter_hue="0" filter_saturation="10
 0" filter_brightness="100" filter_contrast="100" filter_invert="0" filter_
 sepia="0" filter_opacity="100" filter_blur="0" filter_hue_hover="0" filter
 _saturation_hover="100" filter_brightness_hover="100" filter_contrast_hove
 r="100" filter_invert_hover="0" filter_sepia_hover="0" filter_opacity_hove
 r="100" filter_blur_hover="0" transform_type="regular" transform_hover_ele
 ment="self" transform_scale_x="1" transform_scale_y="1" transform_translat
 e_x="0" transform_translate_y="0" transform_rotate="0" transform_skew_x="0
 " transform_skew_y="0" transform_scale_x_hover="1" transform_scale_y_hover
 ="1" transform_translate_x_hover="0" transform_translate_y_hover="0" trans
 form_rotate_hover="0" transform_skew_x_hover="0" transform_skew_y_hover="0
 " transform_origin="" transition_duration="300" transition_easing="ease" t
 ransition_custom_easing="" motion_effects="" scroll_motion_devices="small-
 visibility\,medium-visibility\,large-visibility" animation_type="" animati
 on_direction="left" animation_color="" animation_speed="0.3" animation_del
 ay="0" animation_offset="" last="true" border_position="all" first="true"]
 [fusion_title title_type="text" loop_animation="once" marquee_direction="l
 eft" marquee_speed="15000" rotation_effect="bounceIn" display_time="1200" 
 highlight_effect="circle" highlight_width="9" highlight_top_margin="0" bef
 ore_text="" rotation_text="" highlight_text="" after_text="" title_link="o
 ff" link_url="" link_target="_self" hide_on_mobile="small-visibility\,medi
 um-visibility\,large-visibility" sticky_display="normal\,sticky" class="" 
 id="" content_align_medium="" content_align_small="" content_align="left" 
 size="p" animated_font_size="" fusion_font_family_title_font="var(--awb-ty
 pography4-font-family)" fusion_font_variant_title_font="var(--awb-typograp
 hy4)" font_size="23px" line_height="28px" letter_spacing="var(--awb-typogr
 aphy4-letter-spacing)" text_transform="var(--awb-typography4-text-transfor
 m)" text_color="" hue="" saturation="" lightness="" alpha="" animated_text
 _color="" text_shadow="no" text_shadow_vertical="" text_shadow_horizontal=
 "" text_shadow_blur="0" text_shadow_color="" text_stroke="no" text_stroke_
 size="1" text_stroke_color="" text_overflow="none" margin_top_medium="" ma
 rgin_right_medium="" margin_bottom_medium="" margin_left_medium="" margin_
 top_small="" margin_right_small="" margin_bottom_small="" margin_left_smal
 l="" margin_top="" margin_right="" margin_bottom="" margin_left="" margin_
 top_mobile="" margin_bottom_mobile="" gradient_font="no" gradient_start_co
 lor="" gradient_end_color="" gradient_start_position="0" gradient_end_posi
 tion="100" gradient_type="linear" radial_direction="center center" linear_
 angle="180" highlight_color="" style_type="default" sep_color="" link_colo
 r="" link_hover_color="" animation_type="" animation_direction="left" anim
 ation_color="" animation_speed="0.3" animation_delay="0" animation_offset=
 "" /][fusion_text columns="" column_min_width="" column_spacing="" rule_st
 yle="" rule_size="" rule_color="" hue="" saturation="" lightness="" alpha=
 "" user_select="" awb-switch-editor-focus="" content_alignment_medium="" c
 ontent_alignment_small="" content_alignment="" hide_on_mobile="small-visib
 ility\,medium-visibility\,large-visibility" sticky_display="normal\,sticky
 " class="" id="" width_medium="" width_small="" width="" min_width_medium=
 "" min_width_small="" min_width="" max_width_medium="" max_width_small="" 
 max_width="" margin_top="" margin_right="" margin_bottom="" margin_left=""
  fusion_font_family_text_font="" fusion_font_variant_text_font="" font_siz
 e="" line_height="" letter_spacing="" text_transform="" text_color="" anim
 ation_type="" animation_direction="left" animation_color="" animation_spee
 d="0.3" animation_delay="0" animation_offset="" logics=""]\n5th Bavarian-A
 merican Golf Tournament\non Saturday June 28th\, 2025\naims International 
 Germany is once again our co-sponsor. In addition\, we are now supported b
 y Intergest Worldwide\, as another main sponsor.\nDon’t miss it and help
  us improve on the 10000€ we raised at last year's golf event.\n\nAll pl
 ayers are welcome\, whether they are regular golfers\, occasional golfers 
 or beginners. We will be playing a Scramble and will also be offering a Sc
 hnupperkurs for those who are interested but not yet in the game\, a BBQ i
 n the evening and a charity tombola with some very attractive prizes.\n\nI
 n short\, have fun for a very good cause: All proceeds go directly to Doct
 ors Without Borders.\n\nMore information can now be found on the event web
 site https://www.charity-golf.eu/ and will be updated continuously.\n\nReg
 istration is open!\n\n[/fusion_text][/fusion_builder_column][fusion_builde
 r_column type="1_5" layout="1_5" align_self="auto" content_layout="column"
  align_content="flex-start" valign_content="flex-start" content_wrap="wrap
 " spacing="" center_content="no" column_tag="div" link="" target="_self" l
 ink_description="" min_height="" hide_on_mobile="small-visibility\,medium-
 visibility\,large-visibility" sticky_display="normal\,sticky" class="" id=
 "" type_medium="" type_small="" flex_grow_medium="" flex_grow_small="" fle
 x_grow="" flex_shrink_medium="" flex_shrink_small="" flex_shrink="" order_
 medium="0" order_small="0" spacing_left_medium="" spacing_right_medium="" 
 spacing_left_small="" spacing_right_small="" spacing_left="" spacing_right
 ="" margin_top_medium="" margin_bottom_medium="" margin_top_small="" margi
 n_bottom_small="" margin_top="" margin_bottom="" padding_top_medium="" pad
 ding_right_medium="" padding_bottom_medium="" padding_left_medium="" paddi
 ng_top_small="" padding_right_small="" padding_bottom_small="" padding_lef
 t_small="" padding_top="" padding_right="" padding_bottom="" padding_left=
 "" hover_type="none" border_sizes_top="2px" border_sizes_right="2px" borde
 r_sizes_bottom="2px" border_sizes_left="2px" border_color_hover="" hue="" 
 saturation="" lightness="" alpha="" border_color="var(--awb-color6)" borde
 r_style="solid" border_radius_top_left="" border_radius_top_right="" borde
 r_radius_bottom_right="" border_radius_bottom_left="" box_shadow="no" box_
 shadow_vertical="" box_shadow_horizontal="" box_shadow_blur="0" box_shadow
 _spread="0" box_shadow_color="" box_shadow_style="" z_index_hover="" z_ind
 ex="" overflow="" background_type="single" background_color_medium="" back
 ground_color_small="" background_color_medium_hover="" background_color_sm
 all_hover="" background_color_hover="" background_color="" gradient_start_
 color="" gradient_end_color="" gradient_start_position="0" gradient_end_po
 sition="100" gradient_type="linear" radial_direction="center center" linea
 r_angle="180" background_image_medium="" background_image_small="" backgro
 und_image="" background_image_id_medium="" background_image_id_small="" ba
 ckground_image_id="" lazy_load="avada" skip_lazy_load="" background_positi
 on_medium="" background_position_small="" background_position="left top" b
 ackground_repeat_medium="" background_repeat_small="" background_repeat="n
 o-repeat" background_size_medium="" background_size_small="" background_si
 ze="" background_custom_size="" background_custom_size_medium="" backgroun
 d_custom_size_small="" background_blend_mode_medium="" background_blend_mo
 de_small="" background_blend_mode="none" background_slider_images="" backg
 round_slider_position="" background_slider_skip_lazy_loading="no" backgrou
 nd_slider_loop="yes" background_slider_pause_on_hover="no" background_slid
 er_slideshow_speed="5000" background_slider_animation="fade" background_sl
 ider_direction="up" background_slider_animation_speed="800" background_sli
 der_blend_mode="" render_logics="" sticky="off" sticky_devices="small-visi
 bility\,medium-visibility\,large-visibility" sticky_offset="" absolute="of
 f" absolute_top="" absolute_right="" absolute_bottom="" absolute_left="" f
 ilter_type="regular" filter_hover_element="self" filter_hue_hover="0" filt
 er_saturation_hover="100" filter_brightness_hover="100" filter_contrast_ho
 ver="100" filter_invert_hover="0" filter_sepia_hover="0" filter_opacity_ho
 ver="100" filter_blur_hover="0" filter_hue="0" filter_saturation="100" fil
 ter_brightness="100" filter_contrast="100" filter_invert="0" filter_sepia=
 "0" filter_opacity="100" filter_blur="0" transform_type="regular" transfor
 m_hover_element="self" transform_scale_x_hover="1" transform_scale_y_hover
 ="1" transform_translate_x_hover="0" transform_translate_y_hover="0" trans
 form_rotate_hover="0" transform_skew_x_hover="0" transform_skew_y_hover="0
 " transform_scale_x="1" transform_scale_y="1" transform_translate_x="0" tr
 ansform_translate_y="0" transform_rotate="0" transform_skew_x="0" transfor
 m_skew_y="0" transform_origin="" transition_duration="300" transition_easi
 ng="ease" transition_custom_easing="" motion_effects="W10=" scroll_motion_
 devices="small-visibility\,medium-visibility\,large-visibility" animation_
 type="" animation_direction="left" animation_color="" animation_speed="0.3
 " animation_delay="0" animation_offset="" last="true" border_position="all
 " first="true"][fusion_title title_type="text" loop_animation="once" marqu
 ee_direction="left" marquee_speed="15000" rotation_effect="bounceIn" displ
 ay_time="1200" highlight_effect="circle" highlight_width="9" highlight_top
 _margin="0" before_text="" rotation_text="" highlight_text="" after_text="
 " awb-switch-editor-focus="" title_link="on" link_url="https://charity-gol
 f-tournament.sumupstore.com/" link_target="_blank" hide_on_mobile="small-v
 isibility\,medium-visibility\,large-visibility" sticky_display="normal\,st
 icky" class="" id="" content_align_medium="" content_align_small="" conten
 t_align="center" size="p" animated_font_size="" fusion_font_family_title_f
 ont="Oswald" fusion_font_variant_title_font="600" font_size="24px" line_he
 ight="1.0" letter_spacing="var(--awb-typography2-letter-spacing)" text_tra
 nsform="var(--awb-typography2-text-transform)" text_color="" hue="" satura
 tion="" lightness="" alpha="" animated_text_color="" text_shadow="no" text
 _shadow_vertical="" text_shadow_horizontal="" text_shadow_blur="0" text_sh
 adow_color="" text_stroke="no" text_stroke_size="1" text_stroke_color="" t
 ext_overflow="none" margin_top_medium="" margin_right_medium="" margin_bot
 tom_medium="" margin_left_medium="" margin_top_small="" margin_right_small
 ="" margin_bottom_small="" margin_left_small="" margin_top="15px" margin_r
 ight="" margin_bottom="0px" margin_left="" margin_top_mobile="" margin_bot
 tom_mobile="" gradient_font="no" gradient_start_color="" gradient_end_colo
 r="" gradient_start_position="0" gradient_end_position="100" gradient_type
 ="linear" radial_direction="center center" linear_angle="180" highlight_co
 lor="" style_type="default" sep_color="" link_color="" link_hover_color=""
  animation_type="" animation_direction="left" animation_color="" animation
 _speed="0.3" animation_delay="0" animation_offset=""]\n\nRegister here\n\n
 [/fusion_title][/fusion_builder_column][/fusion_builder_row][/fusion_build
 er_container]
ATTACH;FMTTYPE=image/jpeg:https://agbc-munich.com/wp-content/uploads/2024/
 11/Charity-Golf-25-Square_eng.jpg
CATEGORIES:Club Event
LOCATION:Golfclub Tegernbach\, Kapellenweg 1\, Tegernbach\, 82293\, Germany
X-APPLE-STRUCTURED-LOCATION;VALUE=URI;X-ADDRESS=Kapellenweg 1\, Tegernbach\
 , 82293\, Germany;X-APPLE-RADIUS=100;X-TITLE=Golfclub Tegernbach:geo:0,0
END:VEVENT
BEGIN:VTIMEZONE
TZID:Europe/Berlin
X-LIC-LOCATION:Europe/Berlin
BEGIN:DAYLIGHT
DTSTART:20250330T030000
TZOFFSETFROM:+0100
TZOFFSETTO:+0200
TZNAME:CEST
END:DAYLIGHT
END:VTIMEZONE
END:VCALENDAR